BEGIN:VCALENDAR
METHOD:REQUEST
PRODID:-//events.orgNONSGML ical.net 4.0//EN
VERSION:2.0
BEGIN:VEVENT
DTEND;VALUE=DATE:20260808
DTSTAMP:20260422T085623Z
DTSTART;VALUE=DATE:20260808
LOCATION:Dudley Riggs Theatre\, Minneapolis
ORGANIZER;CN=:mailto:events@events.org
SEQUENCE:0
SUMMARY:Battle of the Improv All-Stars 2026
UID:676ce9f3-cf4c-49a4-8e7d-47d1c2a7688e
URL:https://events.org/e/Battle-of-the-Improv-All-Stars-2026/JHHDDPYQ
BEGIN:VALARM
ACTION:DISPLAY
SUMMARY:Reminder
TRIGGER:-P1D
END:VALARM
END:VEVENT
END:VCALENDAR
