BEGIN:VCALENDAR
METHOD:REQUEST
PRODID:-//events.orgNONSGML ical.net 4.0//EN
VERSION:2.0
BEGIN:VEVENT
DTEND;VALUE=DATE:20260522
DTSTAMP:20260422T090545Z
DTSTART;VALUE=DATE:20260522
LOCATION:House of Blues Chicago\, Chicago
ORGANIZER;CN=:mailto:events@events.org
SEQUENCE:0
SUMMARY:Archspire: Long Roads Big Loads Tour
UID:3313cf76-8aac-4ef5-b575-63787b6fbb98
URL:https://events.org/e/Archspire-Long-Roads-Big-Loads-Tour/JUQVIPNE
BEGIN:VALARM
ACTION:DISPLAY
SUMMARY:Reminder
TRIGGER:-P1D
END:VALARM
END:VEVENT
END:VCALENDAR
