BEGIN:VCALENDAR
METHOD:REQUEST
PRODID:-//events.orgNONSGML ical.net 4.0//EN
VERSION:2.0
BEGIN:VEVENT
DTEND;VALUE=DATE:20260428
DTSTAMP:20260424T080750Z
DTSTART;VALUE=DATE:20260428
LOCATION:Westside Theatre Upstairs - NY\, New York
ORGANIZER;CN=:mailto:events@events.org
SEQUENCE:0
SUMMARY:Little Shop of Horrors
UID:1d809ed2-85b6-49fe-bc4e-f08b182a5b1b
URL:https://events.org/e/Little-Shop-of-Horrors/847DCBJD
BEGIN:VALARM
ACTION:DISPLAY
SUMMARY:Reminder
TRIGGER:-P1D
END:VALARM
END:VEVENT
END:VCALENDAR
