BEGIN:VCALENDAR
METHOD:REQUEST
PRODID:-//events.orgNONSGML ical.net 4.0//EN
VERSION:2.0
BEGIN:VEVENT
DTEND;VALUE=DATE:20260517
DTSTAMP:20260423T093732Z
DTSTART;VALUE=DATE:20260517
LOCATION:Buell Theatre\, Denver
ORGANIZER;CN=:mailto:events@events.org
SEQUENCE:0
SUMMARY:MJ (Touring)
UID:3faa378f-59b8-41b9-9169-d9f090ed79b9
URL:https://events.org/e/MJ-Touring/6VACIN22
BEGIN:VALARM
ACTION:DISPLAY
SUMMARY:Reminder
TRIGGER:-P1D
END:VALARM
END:VEVENT
END:VCALENDAR
