BEGIN:VCALENDAR
METHOD:REQUEST
PRODID:-//events.orgNONSGML ical.net 4.0//EN
VERSION:2.0
BEGIN:VEVENT
DTEND;VALUE=DATE:20260601
DTSTAMP:20260421T095142Z
DTSTART;VALUE=DATE:20260601
LOCATION:Marquis\, Denver
ORGANIZER;CN=:mailto:events@events.org
SEQUENCE:0
SUMMARY:Arankai:The Portrait Tour with special guests buffalo_farm
UID:e113cdb3-59eb-4dbe-a87d-4eecf7a977cb
URL:https://events.org/e/ArankaiThe-Portrait-Tour-with-special-guests/TH73
 IAM8
BEGIN:VALARM
ACTION:DISPLAY
SUMMARY:Reminder
TRIGGER:-P1D
END:VALARM
END:VEVENT
END:VCALENDAR
