BEGIN:VCALENDAR
METHOD:REQUEST
PRODID:-//events.orgNONSGML ical.net 4.0//EN
VERSION:2.0
BEGIN:VEVENT
DTEND;VALUE=DATE:20260603
DTSTAMP:20260422T105644Z
DTSTART;VALUE=DATE:20260603
LOCATION:Brick and Mortar Music Hall\, San Francisco
ORGANIZER;CN=:mailto:events@events.org
SEQUENCE:0
SUMMARY:SEAHAVEN\, Breakup Shoes\, House & Home
UID:9b505764-2dd0-4692-a980-ec83a2286551
URL:https://events.org/e/SEAHAVEN-Breakup-Shoes-House-Home/MY7GO6W5
BEGIN:VALARM
ACTION:DISPLAY
SUMMARY:Reminder
TRIGGER:-P1D
END:VALARM
END:VEVENT
END:VCALENDAR
