BEGIN:VCALENDAR
METHOD:REQUEST
PRODID:-//events.orgNONSGML ical.net 4.0//EN
VERSION:2.0
BEGIN:VEVENT
DTEND;VALUE=DATE:20260619
DTSTAMP:20260421T081749Z
DTSTART;VALUE=DATE:20260619
LOCATION:Q Nightclub\, Seattle
ORGANIZER;CN=:mailto:events@events.org
SEQUENCE:0
SUMMARY:Paul Oakenfold (21 and Over with Valid ID)
UID:c4c036dd-2afc-44b3-a4d7-e2243c5f4d87
URL:https://events.org/e/Paul-Oakenfold-21-and-Over-with-Valid-ID/F3F8A4PM
BEGIN:VALARM
ACTION:DISPLAY
SUMMARY:Reminder
TRIGGER:-P1D
END:VALARM
END:VEVENT
END:VCALENDAR
