BEGIN:VCALENDAR
METHOD:REQUEST
PRODID:-//events.orgNONSGML ical.net 4.0//EN
VERSION:2.0
BEGIN:VEVENT
DTEND;VALUE=DATE:20260423
DTSTAMP:20260422T090943Z
DTSTART;VALUE=DATE:20260423
LOCATION:Blue Note Jazz Club\, New York
ORGANIZER;CN=:mailto:events@events.org
SEQUENCE:0
SUMMARY:Jacob Collier & Chris Thile
UID:5552ab7b-53e6-4a52-a0cc-e7219f12c431
URL:https://events.org/e/Jacob-Collier-Chris-Thile/2LPKDH27
BEGIN:VALARM
ACTION:DISPLAY
SUMMARY:Reminder
TRIGGER:-P1D
END:VALARM
END:VEVENT
END:VCALENDAR
