BEGIN:VCALENDAR
METHOD:REQUEST
PRODID:-//events.orgNONSGML ical.net 4.0//EN
VERSION:2.0
BEGIN:VEVENT
DTEND;VALUE=DATE:20260517
DTSTAMP:20260422T090953Z
DTSTART;VALUE=DATE:20260517
LOCATION:The United Theater on Broadway\, Los Angeles
ORGANIZER;CN=:mailto:events@events.org
SEQUENCE:0
SUMMARY:Bill Burr
UID:01829419-fee1-4e2d-baa0-01c5f846df17
URL:https://events.org/e/Bill-Burr/73F3U9G6
BEGIN:VALARM
ACTION:DISPLAY
SUMMARY:Reminder
TRIGGER:-P1D
END:VALARM
END:VEVENT
END:VCALENDAR
