BEGIN:VCALENDAR
METHOD:REQUEST
PRODID:-//events.orgNONSGML ical.net 4.0//EN
VERSION:2.0
BEGIN:VEVENT
DTEND;VALUE=DATE:20260611
DTSTAMP:20260419T153945Z
DTSTART;VALUE=DATE:20260611
LOCATION:The Bronze Peacock at House of Blues Houston\, Houston
ORGANIZER;CN=:mailto:events@events.org
SEQUENCE:0
SUMMARY:The Jst Us Podcast - Ages 18+ w/ Valid ID
UID:fbfa2995-2574-4b75-8734-d8217cb6b28d
URL:https://events.org/e/The-Jst-Us-Podcast---Ages-18-w-Valid-ID/LW2NRNN2
BEGIN:VALARM
ACTION:DISPLAY
SUMMARY:Reminder
TRIGGER:-P1D
END:VALARM
END:VEVENT
END:VCALENDAR
