BEGIN:VCALENDAR
METHOD:REQUEST
PRODID:-//events.orgNONSGML ical.net 4.0//EN
VERSION:2.0
BEGIN:VEVENT
DTEND;VALUE=DATE:20260608
DTSTAMP:20260423T134005Z
DTSTART;VALUE=DATE:20260608
LOCATION:The Echo Lounge & Music Hall\, Dallas
ORGANIZER;CN=:mailto:events@events.org
SEQUENCE:0
SUMMARY:French Montana x Max B - Wave Gods Narcos Tour
UID:9608a7fd-3eea-4776-8198-6ea3d3d10feb
URL:https://events.org/e/French-Montana-x-Max-B---Wave-Gods-Narcos-Tour/U7
 HN9GBF
BEGIN:VALARM
ACTION:DISPLAY
SUMMARY:Reminder
TRIGGER:-P1D
END:VALARM
END:VEVENT
END:VCALENDAR
