BEGIN:VCALENDAR
METHOD:REQUEST
PRODID:-//events.orgNONSGML ical.net 4.0//EN
VERSION:2.0
BEGIN:VEVENT
DTEND;VALUE=DATE:20260519
DTSTAMP:20260422T090545Z
DTSTART;VALUE=DATE:20260519
LOCATION:Walt Disney Concert Hall\, Los Angeles
ORGANIZER;CN=:mailto:events@events.org
SEQUENCE:0
SUMMARY:Los Angeles Philharmonic w/ Gustavo Dudamel
UID:eb361571-3cd9-4fab-afeb-410731242f61
URL:https://events.org/e/Los-Angeles-Philharmonic-w-Gustavo-Dudamel/5XUTBT
 IF
BEGIN:VALARM
ACTION:DISPLAY
SUMMARY:Reminder
TRIGGER:-P1D
END:VALARM
END:VEVENT
END:VCALENDAR
