BEGIN:VCALENDAR
METHOD:REQUEST
PRODID:-//events.orgNONSGML ical.net 4.0//EN
VERSION:2.0
BEGIN:VEVENT
DTEND;VALUE=DATE:20260426
DTSTAMP:20260422T084244Z
DTSTART;VALUE=DATE:20260426
LOCATION:New World Stages - Stage 5\, New York
ORGANIZER;CN=:mailto:events@events.org
SEQUENCE:0
SUMMARY:Jamie Allan's Amaze
UID:4a84e61d-cfbe-4015-ae4f-36536479144b
URL:https://events.org/e/Jamie-Allans-Amaze/SWBSQ2K8
BEGIN:VALARM
ACTION:DISPLAY
SUMMARY:Reminder
TRIGGER:-P1D
END:VALARM
END:VEVENT
END:VCALENDAR
