BEGIN:VCALENDAR
METHOD:REQUEST
PRODID:-//events.orgNONSGML ical.net 4.0//EN
VERSION:2.0
BEGIN:VEVENT
DTEND;VALUE=DATE:20260702
DTSTAMP:20260422T084611Z
DTSTART;VALUE=DATE:20260702
LOCATION:The Showbox\, Seattle
ORGANIZER;CN=:mailto:events@events.org
SEQUENCE:0
SUMMARY:Joshua Slone
UID:ec3d2c99-669a-4b3d-9fef-431c3518c372
URL:https://events.org/e/Joshua-Slone/UWT8QFFV
BEGIN:VALARM
ACTION:DISPLAY
SUMMARY:Reminder
TRIGGER:-P1D
END:VALARM
END:VEVENT
END:VCALENDAR
