BEGIN:VCALENDAR
METHOD:REQUEST
PRODID:-//events.orgNONSGML ical.net 4.0//EN
VERSION:2.0
BEGIN:VEVENT
DTEND;VALUE=DATE:20260525
DTSTAMP:20260422T084213Z
DTSTART;VALUE=DATE:20260525
LOCATION:Chicago Architecture Center - First Lady\, Chicago
ORGANIZER;CN=:mailto:events@events.org
SEQUENCE:0
SUMMARY:Chicago Architecture Center River Cruise Aboard First Lady
UID:60eb25b6-bd00-4a35-ad2e-c7ce306a0d09
URL:https://events.org/e/Chicago-Architecture-Center-River-Cruise-Aboa/BRK
 6UJ8B
BEGIN:VALARM
ACTION:DISPLAY
SUMMARY:Reminder
TRIGGER:-P1D
END:VALARM
END:VEVENT
END:VCALENDAR
