BEGIN:VCALENDAR
METHOD:REQUEST
PRODID:-//events.orgNONSGML ical.net 4.0//EN
VERSION:2.0
BEGIN:VEVENT
DTEND;VALUE=DATE:20260530
DTSTAMP:20260424T091922Z
DTSTART;VALUE=DATE:20260530
LOCATION:Warner Theatre\, Washington
ORGANIZER;CN=:mailto:events@events.org
SEQUENCE:0
SUMMARY:The Albasheer Show
UID:86af6990-f880-4420-8f5e-030b1da469fa
URL:https://events.org/e/The-Albasheer-Show/O54LCCV5
BEGIN:VALARM
ACTION:DISPLAY
SUMMARY:Reminder
TRIGGER:-P1D
END:VALARM
END:VEVENT
END:VCALENDAR
