BEGIN:VCALENDAR
METHOD:REQUEST
PRODID:-//events.orgNONSGML ical.net 4.0//EN
VERSION:2.0
BEGIN:VEVENT
DTEND;VALUE=DATE:20260425
DTSTAMP:20260422T090238Z
DTSTART;VALUE=DATE:20260425
LOCATION:Westside Theatre Upstairs - NY\, New York
ORGANIZER;CN=:mailto:events@events.org
SEQUENCE:0
SUMMARY:Little Shop of Horrors
UID:4edab41e-cb15-419c-a2d8-51efb75726ba
URL:https://events.org/e/Little-Shop-of-Horrors/OA8AJHA3
BEGIN:VALARM
ACTION:DISPLAY
SUMMARY:Reminder
TRIGGER:-P1D
END:VALARM
END:VEVENT
END:VCALENDAR
