BEGIN:VCALENDAR
METHOD:REQUEST
PRODID:-//events.orgNONSGML ical.net 4.0//EN
VERSION:2.0
BEGIN:VEVENT
DTEND;VALUE=DATE:20260321
DTSTAMP:20260421T082311Z
DTSTART;VALUE=DATE:20260321
LOCATION:Orchestra Hall - IL\, Chicago
ORGANIZER;CN=:mailto:events@events.org
SEQUENCE:0
SUMMARY:Classical Elements
UID:345508af-8a44-453a-9106-c2e44e8fa263
URL:https://events.org/e/Classical-Elements/6UQVG6F7
BEGIN:VALARM
ACTION:DISPLAY
SUMMARY:Reminder
TRIGGER:-P1D
END:VALARM
END:VEVENT
END:VCALENDAR
