BEGIN:VCALENDAR
METHOD:REQUEST
PRODID:-//events.orgNONSGML ical.net 4.0//EN
VERSION:2.0
BEGIN:VEVENT
DTEND;VALUE=DATE:20260913
DTSTAMP:20260422T090345Z
DTSTART;VALUE=DATE:20260913
LOCATION:Pechanga Arena San Diego\, San Diego
ORGANIZER;CN=:mailto:events@events.org
SEQUENCE:0
SUMMARY:Ringling Bros B&B: The Greatest Show on Earth
UID:edbcceab-4b37-4707-9af6-72756e1580a4
URL:https://events.org/e/Ringling-Bros-BB-The-Greatest-Show-on-Earth/28R6G
 N5W
BEGIN:VALARM
ACTION:DISPLAY
SUMMARY:Reminder
TRIGGER:-P1D
END:VALARM
END:VEVENT
END:VCALENDAR
