BEGIN:VCALENDAR
METHOD:REQUEST
PRODID:-//events.orgNONSGML ical.net 4.0//EN
VERSION:2.0
BEGIN:VEVENT
DTEND;VALUE=DATE:20260710
DTSTAMP:20260423T154242Z
DTSTART;VALUE=DATE:20260710
LOCATION:Fenway Park\, Boston
ORGANIZER;CN=:mailto:events@events.org
SEQUENCE:0
SUMMARY:Noah Kahan w/ Gigi Perez
UID:ad4922b1-559d-47f9-a1d1-da70b18169ef
URL:https://events.org/e/Noah-Kahan-w-Gigi-Perez/2VS2QJFM
BEGIN:VALARM
ACTION:DISPLAY
SUMMARY:Reminder
TRIGGER:-P1D
END:VALARM
END:VEVENT
END:VCALENDAR
