BEGIN:VCALENDAR
METHOD:REQUEST
PRODID:-//events.orgNONSGML ical.net 4.0//EN
VERSION:2.0
BEGIN:VEVENT
DTEND;VALUE=DATE:20260423
DTSTAMP:20260422T090715Z
DTSTART;VALUE=DATE:20260423
LOCATION:Winter Garden Theatre\, New York
ORGANIZER;CN=:mailto:events@events.org
SEQUENCE:0
SUMMARY:Arthur Miller's Death of a Salesman
UID:a69870b6-2ec4-41e0-acf2-e880c1d6ef90
URL:https://events.org/e/Arthur-Millers-Death-of-a-Salesman/92AWRQCJ
BEGIN:VALARM
ACTION:DISPLAY
SUMMARY:Reminder
TRIGGER:-P1D
END:VALARM
END:VEVENT
END:VCALENDAR
