BEGIN:VCALENDAR
METHOD:REQUEST
PRODID:-//events.orgNONSGML ical.net 4.0//EN
VERSION:2.0
BEGIN:VEVENT
DTEND;VALUE=DATE:20260717
DTSTAMP:20260424T092445Z
DTSTART;VALUE=DATE:20260717
LOCATION:Thunderbird Lounge\, Phoenix
ORGANIZER;CN=:mailto:events@events.org
SEQUENCE:0
SUMMARY:Rewind That Back: 90's/00's R&B Night
UID:10f038dc-5735-4765-9667-80772e1aa200
URL:https://events.org/e/Rewind-That-Back-90s00s-RB-Night/TOMXY8BB
BEGIN:VALARM
ACTION:DISPLAY
SUMMARY:Reminder
TRIGGER:-P1D
END:VALARM
END:VEVENT
END:VCALENDAR
