BEGIN:VCALENDAR
METHOD:REQUEST
PRODID:-//events.orgNONSGML ical.net 4.0//EN
VERSION:2.0
BEGIN:VEVENT
DTEND;VALUE=DATE:20260602
DTSTAMP:20260421T215047Z
DTSTART;VALUE=DATE:20260602
LOCATION:Cobb Energy Performing Arts Centre\, Atlanta
ORGANIZER;CN=:mailto:events@events.org
SEQUENCE:0
SUMMARY:Atlanta Opera Presents Twilight of the Gods
UID:02b99f76-34bf-40a1-920a-28688aac6443
URL:https://events.org/e/Atlanta-Opera-Presents-Twilight-of-the-Gods/6L4NU
 JJI
BEGIN:VALARM
ACTION:DISPLAY
SUMMARY:Reminder
TRIGGER:-P1D
END:VALARM
END:VEVENT
END:VCALENDAR
