BEGIN:VCALENDAR
METHOD:REQUEST
PRODID:-//events.orgNONSGML ical.net 4.0//EN
VERSION:2.0
BEGIN:VEVENT
DTEND;VALUE=DATE:20260422
DTSTAMP:20260422T090453Z
DTSTART;VALUE=DATE:20260422
LOCATION:The Ruby Theatre\, New York
ORGANIZER;CN=:mailto:events@events.org
SEQUENCE:0
SUMMARY:Drunk Shakespeare
UID:5b667799-ed25-431f-bb85-2a61a7f69988
URL:https://events.org/e/Drunk-Shakespeare/3MTHLN5A
BEGIN:VALARM
ACTION:DISPLAY
SUMMARY:Reminder
TRIGGER:-P1D
END:VALARM
END:VEVENT
END:VCALENDAR
