BEGIN:VCALENDAR
METHOD:REQUEST
PRODID:-//events.orgNONSGML ical.net 4.0//EN
VERSION:2.0
BEGIN:VEVENT
DTEND;VALUE=DATE:20260428
DTSTAMP:20260424T080939Z
DTSTART;VALUE=DATE:20260428
LOCATION:Audible's Minetta Lane Theatre\, New York
ORGANIZER;CN=:mailto:events@events.org
SEQUENCE:0
SUMMARY:Sexual Misconduct of the Middle Classes
UID:2559e4eb-a72c-4076-8575-3a06c8e40fcf
URL:https://events.org/e/Sexual-Misconduct-of-the-Middle-Classes/PSPLLS3R
BEGIN:VALARM
ACTION:DISPLAY
SUMMARY:Reminder
TRIGGER:-P1D
END:VALARM
END:VEVENT
END:VCALENDAR
