BEGIN:VCALENDAR
METHOD:REQUEST
PRODID:-//events.orgNONSGML ical.net 4.0//EN
VERSION:2.0
BEGIN:VEVENT
DTEND;VALUE=DATE:20260619
DTSTAMP:20260419T130258Z
DTSTART;VALUE=DATE:20260619
LOCATION:Ophelia's Electric Soapbox\, Denver
ORGANIZER;CN=:mailto:events@events.org
SEQUENCE:0
SUMMARY:Bluetech
UID:6deee182-827d-40dc-abe5-5b4aab7893fe
URL:https://events.org/e/Bluetech/LQCPE9Q3
BEGIN:VALARM
ACTION:DISPLAY
SUMMARY:Reminder
TRIGGER:-P1D
END:VALARM
END:VEVENT
END:VCALENDAR
