BEGIN:VCALENDAR
METHOD:REQUEST
PRODID:-//events.orgNONSGML ical.net 4.0//EN
VERSION:2.0
BEGIN:VEVENT
DTEND;VALUE=DATE:20260429
DTSTAMP:20260422T111816Z
DTSTART;VALUE=DATE:20260429
LOCATION:The Masquerade - Purgatory\, Atlanta
ORGANIZER;CN=:mailto:events@events.org
SEQUENCE:0
SUMMARY:Red Hot Empty
UID:5057c28f-8c50-4cc0-b1e9-02ae209c3dbf
URL:https://events.org/e/Red-Hot-Empty/DXWX3NRJ
BEGIN:VALARM
ACTION:DISPLAY
SUMMARY:Reminder
TRIGGER:-P1D
END:VALARM
END:VEVENT
END:VCALENDAR
