BEGIN:VCALENDAR
METHOD:REQUEST
PRODID:-//events.orgNONSGML ical.net 4.0//EN
VERSION:2.0
BEGIN:VEVENT
DTEND;VALUE=DATE:20251214
DTSTAMP:20260425T170630Z
DTSTART;VALUE=DATE:20251214
LOCATION:713 Music Hall\, Houston
ORGANIZER;CN=:mailto:events@events.org
SEQUENCE:0
SUMMARY:Andrew Peterson: Behold the Lamb of God
UID:cc4ad87e-26da-4e14-9d23-27ab91b1b38b
URL:https://events.org/e/Andrew-Peterson-Behold-the-Lamb-of-God/UUBL6UB2
BEGIN:VALARM
ACTION:DISPLAY
SUMMARY:Reminder
TRIGGER:-P1D
END:VALARM
END:VEVENT
END:VCALENDAR
