BEGIN:VCALENDAR
METHOD:REQUEST
PRODID:-//events.orgNONSGML ical.net 4.0//EN
VERSION:2.0
BEGIN:VEVENT
DTEND;VALUE=DATE:20260711
DTSTAMP:20260424T092402Z
DTSTART;VALUE=DATE:20260711
LOCATION:Cafe Du Nord\, San Francisco
ORGANIZER;CN=:mailto:events@events.org
SEQUENCE:0
SUMMARY:Private Event
UID:13d44fab-4e73-41f4-902a-6a56d672af8e
URL:https://events.org/e/Private-Event/EICCMBPX
BEGIN:VALARM
ACTION:DISPLAY
SUMMARY:Reminder
TRIGGER:-P1D
END:VALARM
END:VEVENT
END:VCALENDAR
