BEGIN:VCALENDAR
METHOD:REQUEST
PRODID:-//events.orgNONSGML ical.net 4.0//EN
VERSION:2.0
BEGIN:VEVENT
DTEND;VALUE=DATE:20260521
DTSTAMP:20260422T084911Z
DTSTART;VALUE=DATE:20260521
LOCATION:Brick and Mortar Music Hall\, San Francisco
ORGANIZER;CN=:mailto:events@events.org
SEQUENCE:0
SUMMARY:DEEPER SLEEPER
UID:b5562404-25d7-4fc2-94bd-447abcbd0c54
URL:https://events.org/e/DEEPER-SLEEPER/3NM9F5LP
BEGIN:VALARM
ACTION:DISPLAY
SUMMARY:Reminder
TRIGGER:-P1D
END:VALARM
END:VEVENT
END:VCALENDAR
