BEGIN:VCALENDAR
METHOD:REQUEST
PRODID:-//events.orgNONSGML ical.net 4.0//EN
VERSION:2.0
BEGIN:VEVENT
DTEND;VALUE=DATE:20260423
DTSTAMP:20260422T090545Z
DTSTART;VALUE=DATE:20260423
LOCATION:Madison Square Garden\, New York
ORGANIZER;CN=:mailto:events@events.org
SEQUENCE:0
SUMMARY:Madison Square Garden Tour Experience
UID:be4c754b-22e5-4414-ae76-06b8bd680f7d
URL:https://events.org/e/Madison-Square-Garden-Tour-Experience/C49R4QWM
BEGIN:VALARM
ACTION:DISPLAY
SUMMARY:Reminder
TRIGGER:-P1D
END:VALARM
END:VEVENT
END:VCALENDAR
