BEGIN:VCALENDAR
METHOD:REQUEST
PRODID:-//events.orgNONSGML ical.net 4.0//EN
VERSION:2.0
BEGIN:VEVENT
DTEND;VALUE=DATE:20260605
DTSTAMP:20260419T130304Z
DTSTART;VALUE=DATE:20260605
LOCATION:House of Blues Houston\, Houston
ORGANIZER;CN=:mailto:events@events.org
SEQUENCE:0
SUMMARY:Queen and King of Reality Show\, Nene Leakes and Carlos King LIVE!
   18+
UID:c074b010-7219-4817-96f3-93468d475b9a
URL:https://events.org/e/Queen-and-King-of-Reality-Show-Nene-Leakes-an/CSH
 EUWVK
BEGIN:VALARM
ACTION:DISPLAY
SUMMARY:Reminder
TRIGGER:-P1D
END:VALARM
END:VEVENT
END:VCALENDAR
