BEGIN:VCALENDAR
METHOD:REQUEST
PRODID:-//events.orgNONSGML ical.net 4.0//EN
VERSION:2.0
BEGIN:VEVENT
DTEND;VALUE=DATE:20260520
DTSTAMP:20260422T092427Z
DTSTART;VALUE=DATE:20260520
LOCATION:CIBC Theatre\, Chicago
ORGANIZER;CN=:mailto:events@events.org
SEQUENCE:0
SUMMARY:Monty Python's Spamalot (Chicago)
UID:b8131b44-9559-4b67-8f2e-985e95483cef
URL:https://events.org/e/Monty-Pythons-Spamalot-Chicago/IA26XY3A
BEGIN:VALARM
ACTION:DISPLAY
SUMMARY:Reminder
TRIGGER:-P1D
END:VALARM
END:VEVENT
END:VCALENDAR
