BEGIN:VCALENDAR
METHOD:REQUEST
PRODID:-//events.orgNONSGML ical.net 4.0//EN
VERSION:2.0
BEGIN:VEVENT
DTEND;VALUE=DATE:20260426
DTSTAMP:20260421T095622Z
DTSTART;VALUE=DATE:20260426
LOCATION:Kingston Mines - Chicago Blues Center\, Chicago
ORGANIZER;CN=:mailto:events@events.org
SEQUENCE:0
SUMMARY:Mike Wheeler Blues Band/Vino Louden Blues Band
UID:a7eaf20d-8ab2-4886-b225-2192ec2abe2e
URL:https://events.org/e/Mike-Wheeler-Blues-BandVino-Louden-Blues-Band/VS3
 VVHOD
BEGIN:VALARM
ACTION:DISPLAY
SUMMARY:Reminder
TRIGGER:-P1D
END:VALARM
END:VEVENT
END:VCALENDAR
