BEGIN:VCALENDAR
METHOD:REQUEST
PRODID:-//events.orgNONSGML ical.net 4.0//EN
VERSION:2.0
BEGIN:VEVENT
DTEND;VALUE=DATE:20260530
DTSTAMP:20260422T090108Z
DTSTART;VALUE=DATE:20260530
LOCATION:Nikki Lopez Philly\, Philadelphia
ORGANIZER;CN=:mailto:events@events.org
SEQUENCE:0
SUMMARY:Objects\, Evangelism\, Cani Sciorri\, Dirt Birth
UID:45318b77-ab33-4f8c-a6df-4e8e729f095d
URL:https://events.org/e/Objects-Evangelism-Cani-Sciorri-Dirt-Birth/XEQVNO
 NT
BEGIN:VALARM
ACTION:DISPLAY
SUMMARY:Reminder
TRIGGER:-P1D
END:VALARM
END:VEVENT
END:VCALENDAR
