BEGIN:VCALENDAR
METHOD:REQUEST
PRODID:-//events.orgNONSGML ical.net 4.0//EN
VERSION:2.0
BEGIN:VEVENT
DTEND;VALUE=DATE:20260506
DTSTAMP:20260423T134224Z
DTSTART;VALUE=DATE:20260506
LOCATION:Neptune Theatre\, Seattle
ORGANIZER;CN=:mailto:events@events.org
SEQUENCE:0
SUMMARY:Toxic By Abhishek Upmanyu - Live in Seattle (Same Show as 2024)
UID:abfcb6aa-e1dd-4ca3-8793-f36ba5cf1cab
URL:https://events.org/e/Toxic-By-Abhishek-Upmanyu---Live-in-Seattle-S/QAD
 9PRXV
BEGIN:VALARM
ACTION:DISPLAY
SUMMARY:Reminder
TRIGGER:-P1D
END:VALARM
END:VEVENT
END:VCALENDAR
