BEGIN:VCALENDAR
METHOD:REQUEST
PRODID:-//events.orgNONSGML ical.net 4.0//EN
VERSION:2.0
BEGIN:VEVENT
DTEND;VALUE=DATE:20260507
DTSTAMP:20260419T170124Z
DTSTART;VALUE=DATE:20260507
LOCATION:The Regent Theater\, Los Angeles
ORGANIZER;CN=:mailto:events@events.org
SEQUENCE:0
SUMMARY:Netflix Is A Joke Presents: Theater Adult with Gianmarco Soresi
UID:9330644b-5acc-43d7-ab6e-9f9f99246486
URL:https://events.org/e/Netflix-Is-A-Joke-Presents-Theater-Adult-with/HWJ
 GIINW
BEGIN:VALARM
ACTION:DISPLAY
SUMMARY:Reminder
TRIGGER:-P1D
END:VALARM
END:VEVENT
END:VCALENDAR
