BEGIN:VCALENDAR
METHOD:REQUEST
PRODID:-//events.orgNONSGML ical.net 4.0//EN
VERSION:2.0
BEGIN:VEVENT
DTEND;VALUE=DATE:20260422
DTSTAMP:20260422T091150Z
DTSTART;VALUE=DATE:20260422
LOCATION:Iridium\, New York
ORGANIZER;CN=:mailto:events@events.org
SEQUENCE:0
SUMMARY:Tommy Castro & The Painkillers
UID:cc9889a2-30ef-492a-b9c3-f25865355b61
URL:https://events.org/e/Tommy-Castro-The-Painkillers/9QDJH3M3
BEGIN:VALARM
ACTION:DISPLAY
SUMMARY:Reminder
TRIGGER:-P1D
END:VALARM
END:VEVENT
END:VCALENDAR
