BEGIN:VCALENDAR
METHOD:REQUEST
PRODID:-//events.orgNONSGML ical.net 4.0//EN
VERSION:2.0
BEGIN:VEVENT
DTEND;VALUE=DATE:20260422
DTSTAMP:20260422T091017Z
DTSTART;VALUE=DATE:20260422
LOCATION:Majestic Theatre\, New York
ORGANIZER;CN=:mailto:events@events.org
SEQUENCE:0
SUMMARY:Beaches\, A New Musical
UID:c7727bca-a473-413b-b034-9d45ef881078
URL:https://events.org/e/Beaches-A-New-Musical/GRCAPJA4
BEGIN:VALARM
ACTION:DISPLAY
SUMMARY:Reminder
TRIGGER:-P1D
END:VALARM
END:VEVENT
END:VCALENDAR
