BEGIN:VCALENDAR
METHOD:REQUEST
PRODID:-//events.orgNONSGML ical.net 4.0//EN
VERSION:2.0
BEGIN:VEVENT
DTEND;VALUE=DATE:20260627
DTSTAMP:20260421T104502Z
DTSTART;VALUE=DATE:20260627
LOCATION:Phoenix Theatre - Hormel Theatre\, Phoenix
ORGANIZER;CN=:mailto:events@events.org
SEQUENCE:0
SUMMARY:Dear Evan Hansen (Touring)
UID:b43c7912-302b-41e2-a46b-7b57d225fe2e
URL:https://events.org/e/Dear-Evan-Hansen-Touring/BT7KPNWU
BEGIN:VALARM
ACTION:DISPLAY
SUMMARY:Reminder
TRIGGER:-P1D
END:VALARM
END:VEVENT
END:VCALENDAR
