BEGIN:VCALENDAR
METHOD:REQUEST
PRODID:-//events.orgNONSGML ical.net 4.0//EN
VERSION:2.0
BEGIN:VEVENT
DTEND;VALUE=DATE:20260423
DTSTAMP:20260422T090851Z
DTSTART;VALUE=DATE:20260423
LOCATION:Broadhurst Theatre \, New York
ORGANIZER;CN=:mailto:events@events.org
SEQUENCE:0
SUMMARY:CATS: The Jellicle Ball
UID:bbd600c1-84df-43a8-80c0-73ee4d343353
URL:https://events.org/e/CATS-The-Jellicle-Ball/JIS5I29Y
BEGIN:VALARM
ACTION:DISPLAY
SUMMARY:Reminder
TRIGGER:-P1D
END:VALARM
END:VEVENT
END:VCALENDAR
