BEGIN:VCALENDAR
METHOD:REQUEST
PRODID:-//events.orgNONSGML ical.net 4.0//EN
VERSION:2.0
BEGIN:VEVENT
DTEND;VALUE=DATE:20260802
DTSTAMP:20260422T083707Z
DTSTART;VALUE=DATE:20260802
LOCATION:Humphreys Concerts By the Bay\, San Diego
ORGANIZER;CN=:mailto:events@events.org
SEQUENCE:0
SUMMARY:Rick Springfield
UID:f2105480-cfc8-4b19-b554-eb76591cdda2
URL:https://events.org/e/Rick-Springfield/KSEGLTKR
BEGIN:VALARM
ACTION:DISPLAY
SUMMARY:Reminder
TRIGGER:-P1D
END:VALARM
END:VEVENT
END:VCALENDAR
