BEGIN:VCALENDAR
METHOD:REQUEST
PRODID:-//events.orgNONSGML ical.net 4.0//EN
VERSION:2.0
BEGIN:VEVENT
DTEND;VALUE=DATE:20260612
DTSTAMP:20260423T133838Z
DTSTART;VALUE=DATE:20260612
LOCATION:Hard Rock Cafe-Washington DC\, Washington
ORGANIZER;CN=:mailto:events@events.org
SEQUENCE:0
SUMMARY:Whiskey & History: Spies!
UID:2050b073-f965-4bee-8115-38c5b4f40432
URL:https://events.org/e/Whiskey-History-Spies/VNFWFX5I
BEGIN:VALARM
ACTION:DISPLAY
SUMMARY:Reminder
TRIGGER:-P1D
END:VALARM
END:VEVENT
END:VCALENDAR
