BEGIN:VCALENDAR
METHOD:REQUEST
PRODID:-//events.orgNONSGML ical.net 4.0//EN
VERSION:2.0
BEGIN:VEVENT
DTEND;VALUE=DATE:20260626
DTSTAMP:20260421T144721Z
DTSTART;VALUE=DATE:20260626
LOCATION:La Rumba\, Denver
ORGANIZER;CN=:mailto:events@events.org
SEQUENCE:0
SUMMARY:Ladies Night & Noche Sonidera
UID:dbbb949d-1f76-4196-b256-450f06a53ac8
URL:https://events.org/e/Ladies-Night-Noche-Sonidera/EF3PUQIQ
BEGIN:VALARM
ACTION:DISPLAY
SUMMARY:Reminder
TRIGGER:-P1D
END:VALARM
END:VEVENT
END:VCALENDAR
