BEGIN:VCALENDAR
METHOD:REQUEST
PRODID:-//events.orgNONSGML ical.net 4.0//EN
VERSION:2.0
BEGIN:VEVENT
DTEND;VALUE=DATE:20260606
DTSTAMP:20260421T130245Z
DTSTART;VALUE=DATE:20260606
LOCATION:Ophelia's Electric Soapbox\, Denver
ORGANIZER;CN=:mailto:events@events.org
SEQUENCE:0
SUMMARY:Rumours
UID:3df0ce95-e911-4f5f-a90a-2ed2fbfc9e8d
URL:https://events.org/e/Rumours/MHXGGQNW
BEGIN:VALARM
ACTION:DISPLAY
SUMMARY:Reminder
TRIGGER:-P1D
END:VALARM
END:VEVENT
END:VCALENDAR
