BEGIN:VCALENDAR
METHOD:REQUEST
PRODID:-//events.orgNONSGML ical.net 4.0//EN
VERSION:2.0
BEGIN:VEVENT
DTEND;VALUE=DATE:20260419
DTSTAMP:20260421T083215Z
DTSTART;VALUE=DATE:20260419
LOCATION:Orpheum Theatre NYC\, New York
ORGANIZER;CN=:mailto:events@events.org
SEQUENCE:0
SUMMARY:11 to Midnight
UID:026b51bd-5714-4f48-be46-73af486d3283
URL:https://events.org/e/11-to-Midnight/2KJH6NH5
BEGIN:VALARM
ACTION:DISPLAY
SUMMARY:Reminder
TRIGGER:-P1D
END:VALARM
END:VEVENT
END:VCALENDAR
