BEGIN:VCALENDAR
METHOD:REQUEST
PRODID:-//events.orgNONSGML ical.net 4.0//EN
VERSION:2.0
BEGIN:VEVENT
DTEND;VALUE=DATE:20260426
DTSTAMP:20260419T143559Z
DTSTART;VALUE=DATE:20260426
LOCATION:Second City-Chicago: Mainstage\, Chicago
ORGANIZER;CN=:mailto:events@events.org
SEQUENCE:0
SUMMARY:The Second City Mainstage 114th Revue (Minors must be accompanied 
 by an adult)
UID:e13727c7-b2ca-4481-b389-49b0a49f5084
URL:https://events.org/e/The-Second-City-Mainstage-114th-Revue-Minors/B53G
 UC2N
BEGIN:VALARM
ACTION:DISPLAY
SUMMARY:Reminder
TRIGGER:-P1D
END:VALARM
END:VEVENT
END:VCALENDAR
