BEGIN:VCALENDAR
METHOD:REQUEST
PRODID:-//events.orgNONSGML ical.net 4.0//EN
VERSION:2.0
BEGIN:VEVENT
DTEND;VALUE=DATE:20260606
DTSTAMP:20260424T092547Z
DTSTART;VALUE=DATE:20260606
LOCATION:Walter WhereHouse\, Phoenix
ORGANIZER;CN=:mailto:events@events.org
SEQUENCE:0
SUMMARY:Bontan & Ms. Mada (21+)
UID:b673cb93-1f78-436a-a856-ba49fe5721e4
URL:https://events.org/e/Bontan-Ms-Mada-21/4ACVESGF
BEGIN:VALARM
ACTION:DISPLAY
SUMMARY:Reminder
TRIGGER:-P1D
END:VALARM
END:VEVENT
END:VCALENDAR
