BEGIN:VCALENDAR
METHOD:REQUEST
PRODID:-//events.orgNONSGML ical.net 4.0//EN
VERSION:2.0
BEGIN:VEVENT
DTEND;VALUE=DATE:20260705
DTSTAMP:20260421T130025Z
DTSTART;VALUE=DATE:20260705
LOCATION:Ball Arena\, Denver
ORGANIZER;CN=:mailto:events@events.org
SEQUENCE:0
SUMMARY:Club Level Seating: Don Toliver
UID:1b676cf7-2143-42c8-a3c7-06ba36a53311
URL:https://events.org/e/Club-Level-Seating-Don-Toliver/XP6V47PL
BEGIN:VALARM
ACTION:DISPLAY
SUMMARY:Reminder
TRIGGER:-P1D
END:VALARM
END:VEVENT
END:VCALENDAR
