BEGIN:VCALENDAR
METHOD:REQUEST
PRODID:-//events.orgNONSGML ical.net 4.0//EN
VERSION:2.0
BEGIN:VEVENT
DTEND;VALUE=DATE:20260517
DTSTAMP:20260422T092502Z
DTSTART;VALUE=DATE:20260517
LOCATION:Denver Pavilions\, Denver
ORGANIZER;CN=:mailto:events@events.org
SEQUENCE:0
SUMMARY:Bodies - The Science Within - Denver
UID:f48a2f8d-76dc-4702-8796-1444d296ca37
URL:https://events.org/e/Bodies---The-Science-Within---Denver/SQHISDVX
BEGIN:VALARM
ACTION:DISPLAY
SUMMARY:Reminder
TRIGGER:-P1D
END:VALARM
END:VEVENT
END:VCALENDAR
